Workbook

Sheet Расчеты
A1: ='Лист 2'!A64 -> Расчет замещения при селективной плазмофильтрации с использованием фракционаторов плазмы Evaclio
A2: ='Лист 2'!A65 -> (Соколов А.А., январь 2013 г.)
A3: Инфузионно-трансфузионная среда | B3: Имеющийся объем | C3: Evaclio EC-1C | D3: Evaclio EC-2C | E3: Evaclio EC-3C | F3: Evaclio EC-4C
A4: СЗП, мл | B4: 1400 | C4: ='Лист 2'!C58 -> 1400 | D4: ='Лист 2'!D58 -> 1400 | E4: ='Лист 2'!E58 -> 1400 | F4: ='Лист 2'!F58 -> 1400
A5: Раствор Альбумина 10%, мл | B5: 300 | C5: ='Лист 2'!C59 -> 300 | D5: ='Лист 2'!D59 -> 300 | E5: ='Лист 2'!E59 -> 300 | F5: ='Лист 2'!F59 -> 300
A6: Раствор Альбумина 20%, мл | B6: 200 | C6: ='Лист 2'!C60 -> 200 | D6: ='Лист 2'!D60 -> 200 | E6: ='Лист 2'!E60 -> 200 | F6: ='Лист 2'!F60 -> 200
A7: Раствор электролитов, мл | C7: ='Лист 2'!C61 -> 13500 | D7: ='Лист 2'!D61 -> 5800 | E7: ='Лист 2'!E61 -> 3210 | F7: ='Лист 2'!F61 -> 1950
A8: Общий объем инфузии, мл | C8: ='Лист 2'!C62 -> 15400 | D8: ='Лист 2'!D62 -> 7700 | E8: ='Лист 2'!E62 -> 5110 | F8: ='Лист 2'!F62 -> 3850
A9: ='Лист 2'!A66 -> В розовые клетки вводится имеющийся в наличии объем свежезамороженной плазмы (СЗП) или р-ра альбумина.
A10: ='Лист 2'!A67 -> В желтых клетках получается расчетный объем белоксодержащих препаратов и электролитов для различных типов фракционаторов при выполнениии процедуры в изоонкотическом режиме.
A11: ='Лист 2'!A68 -> В зеленых клетках получается расчетный общий объем инфузии с учетом имеющихся белоксодержащих препаратов для различных типов фракционаторов при выполнениии процедуры в изоонкотическом режиме.
A12: ='Лист 2'!A69 -> При выполнении процедуры в изоволемическом режиме общий объем инфузии соответствует общему объему эксфузии.

Sheet Лист 2
A50: Расчет объема субституата при селективном плазмообмене
A51: Вид фильтра | B51: Соотношение СЗП:электролиты | C51: Раствор альбумина | D51: Альбумин из СЗП (допущение, что в СЗП 6% белка) | E51: Альбумин из 10% альб. | F51: Альбумин из 20% альб. | G51: Электролиты к плазме | H51: Электролиты к альбумину 10% | I51: Электролиты к альбумину 20% | J51: Электролиты всего
A52: Evaclio EC-1C | B52: 0 | C52: 0.01 | D52: =B58*6 -> 8400 | E52: =B59*10 -> 3000 | F52: =B60*20 -> 4000 | G52: =D52-B58 -> 7000 | H52: =E52-B59 -> 2700 | I52: =F52-B60 -> 3800 | J52: =G52+H52+I52 -> 13500
A53: Evaclio EC-2C | B53: 0.5 | C53: 0.02 | D53: =B58*3 -> 4200 | E53: =B59*5 -> 1500 | F53: =B60*10 -> 2000 | G53: =D53-B58 -> 2800 | H53: =E53-B59 -> 1200 | I53: =F53-B60 -> 1800 | J53: =G53+H53+I53 -> 5800
A54: Evaclio EC-3C | B54: 1.5 | C54: 0.03 | D54: =B58*2 -> 2800 | E54: =B59*3.3 -> 990 | F54: =B60*6.6 -> 1320 | G54: =D54-B58 -> 1400 | H54: =E54-B59 -> 690 | I54: =F54-B60 -> 1120 | J54: =G54+H54+I54 -> 3210
A55: Evaclio EC-4C | B55: 4 | C55: 0.04 | D55: =B58*1.5 -> 2100 | E55: =B59*2.5 -> 750 | F55: =B60*5 -> 1000 | G55: =D55-B58 -> 700 | H55: =E55-B59 -> 450 | I55: =F55-B60 -> 800 | J55: =G55+H55+I55 -> 1950
A57: Solutions | B57: Solutions | C57: Evaclio EC-1C | D57: Evaclio EC-2C | E57: Evaclio EC-3C | F57: Evaclio EC-4C
A58: FFP, мл | B58: =Расчеты!B4 -> 1400 | C58: =B58 -> 1400 | D58: =B58 -> 1400 | E58: =B58 -> 1400 | F58: =B58 -> 1400
A59: Sol. Albumine 10%, ml | B59: =Расчеты!B5 -> 300 | C59: =B59 -> 300 | D59: =B59 -> 300 | E59: =B59 -> 300 | F59: =B59 -> 300
A60: Sol. Albumine 20%, ml | B60: =Расчеты!B6 -> 200 | C60: =B60 -> 200 | D60: =B60 -> 200 | E60: =B60 -> 200 | F60: =B60 -> 200
A61: Electrolytes, ml | B61: =Расчеты!B7 -> 0 | C61: =J52 -> 13500 | D61: =J53 -> 5800 | E61: =J54 -> 3210 | F61: =J55 -> 1950
A62: Total volume, ml | B62: =Расчеты!B8 -> 0 | C62: =C58+C59+C60+C61 -> 15400 | D62: =D58+D59+D60+D61 -> 7700 | E62: =E58+E59+E60+E61 -> 5110 | F62: =F58+F59+F60+F61 -> 3850
A64: Расчет замещения при селективной плазмофильтрации с использованием фракционаторов плазмы Evaclio
A65: (Соколов А.А., январь 2013 г.)
A66: В розовые клетки вводится имеющийся в наличии объем свежезамороженной плазмы (СЗП) или р-ра альбумина.
A67: В желтых клетках получается расчетный объем белоксодержащих препаратов и электролитов для различных типов фракционаторов при выполнениии процедуры в изоонкотическом режиме.
A68: В зеленых клетках получается расчетный общий объем инфузии с учетом имеющихся белоксодержащих препаратов для различных типов фракционаторов при выполнениии процедуры в изоонкотическом режиме.
A69: При выполнении процедуры в изоволемическом режиме общий объем инфузии соответствует общему объему эксфузии.
